BEGIN:VCALENDAR
VERSION:2.0
PRODID:-//Port Angeles Community Players - ECPv6.15.20//NONSGML v1.0//EN
CALSCALE:GREGORIAN
METHOD:PUBLISH
X-ORIGINAL-URL:https://pacommunityplayers.org
X-WR-CALDESC:Events for Port Angeles Community Players
REFRESH-INTERVAL;VALUE=DURATION:PT1H
X-Robots-Tag:noindex
X-PUBLISHED-TTL:PT1H
BEGIN:VTIMEZONE
TZID:America/Los_Angeles
BEGIN:DAYLIGHT
TZOFFSETFROM:-0800
TZOFFSETTO:-0700
TZNAME:PDT
DTSTART:20250309T100000
END:DAYLIGHT
BEGIN:STANDARD
TZOFFSETFROM:-0700
TZOFFSETTO:-0800
TZNAME:PST
DTSTART:20251102T090000
END:STANDARD
BEGIN:DAYLIGHT
TZOFFSETFROM:-0800
TZOFFSETTO:-0700
TZNAME:PDT
DTSTART:20260308T100000
END:DAYLIGHT
BEGIN:STANDARD
TZOFFSETFROM:-0700
TZOFFSETTO:-0800
TZNAME:PST
DTSTART:20261101T090000
END:STANDARD
BEGIN:DAYLIGHT
TZOFFSETFROM:-0800
TZOFFSETTO:-0700
TZNAME:PDT
DTSTART:20270314T100000
END:DAYLIGHT
BEGIN:STANDARD
TZOFFSETFROM:-0700
TZOFFSETTO:-0800
TZNAME:PST
DTSTART:20271107T090000
END:STANDARD
END:VTIMEZONE
BEGIN:VEVENT
DTSTART;TZID=America/Los_Angeles:20260425T100000
DTEND;TZID=America/Los_Angeles:20260425T143000
DTSTAMP:20260421T132016
CREATED:20260419T230434Z
LAST-MODIFIED:20260419T230434Z
UID:17056-1777111200-1777127400@pacommunityplayers.org
SUMMARY:CLASS IS FULL. Yes...And (Youth Improv Workshop)
DESCRIPTION:
URL:https://pacommunityplayers.org/event/class-is-full-yes-and-youth-improv-workshop/
LOCATION:Port Angeles Community Playhouse\, 1235 W Lauridesen Blvd\, Port Angeles\, WA\, 98362\, United States
CATEGORIES:Workshops
ORGANIZER;CN="Port Angeles Community Players":MAILTO:Pacommunityplayers@hotmail.com
END:VEVENT
BEGIN:VEVENT
DTSTART;TZID=America/Los_Angeles:20260516T100000
DTEND;TZID=America/Los_Angeles:20260516T143000
DTSTAMP:20260421T132016
CREATED:20260419T230812Z
LAST-MODIFIED:20260419T230812Z
UID:17058-1778925600-1778941800@pacommunityplayers.org
SUMMARY:Costume That (Youth Workshop)
DESCRIPTION:
URL:https://pacommunityplayers.org/event/costume-that-youth-workshop/
LOCATION:Port Angeles Community Playhouse\, 1235 W Lauridesen Blvd\, Port Angeles\, WA\, 98362\, United States
CATEGORIES:Workshops
ATTACH;FMTTYPE=image/png:https://pacommunityplayers.org/wp-content/uploads/2026/02/ChildrensWorkshops.png
ORGANIZER;CN="Port Angeles Community Players":MAILTO:Pacommunityplayers@hotmail.com
END:VEVENT
BEGIN:VEVENT
DTSTART;TZID=America/Los_Angeles:20260527T173000
DTEND;TZID=America/Los_Angeles:20260527T173000
DTSTAMP:20260421T132016
CREATED:20260419T223259Z
LAST-MODIFIED:20260419T223333Z
UID:17045-1779903000-1779903000@pacommunityplayers.org
SUMMARY:Audition: Enchanted Bookshop (ages 8-18)
DESCRIPTION:PA Community Players Children’s Theater will present The Enchanted Bookshop\, directed by Marissa Meek August 7 – 16. \nDiscover the magic that happens after hours in a seemingly normal bookshop when the story book characters come to life to help solve a mystery. \nTryouts for youth ages 8-18 will be May 27th and May 30th at 5:30 pm. Copies of the play are available to read at Port Angeles and Sequim libraries.
URL:https://pacommunityplayers.org/event/17045/
LOCATION:Port Angeles Community Playhouse\, 1235 W Lauridesen Blvd\, Port Angeles\, WA\, 98362\, United States
CATEGORIES:Auditions
ORGANIZER;CN="Port Angeles Community Players":MAILTO:Pacommunityplayers@hotmail.com
END:VEVENT
BEGIN:VEVENT
DTSTART;TZID=America/Los_Angeles:20260530T173000
DTEND;TZID=America/Los_Angeles:20260530T173000
DTSTAMP:20260421T132016
CREATED:20260419T225217Z
LAST-MODIFIED:20260419T231459Z
UID:17053-1780162200-1780162200@pacommunityplayers.org
SUMMARY:Auditions: Enchanted Bookshop (ages 8-
DESCRIPTION:
URL:https://pacommunityplayers.org/event/auditions-enchanted-bookshop-ages-8-18-2/
LOCATION:Port Angeles Community Playhouse\, 1235 W Lauridesen Blvd\, Port Angeles\, WA\, 98362\, United States
CATEGORIES:Auditions
ORGANIZER;CN="Port Angeles Community Players":MAILTO:Pacommunityplayers@hotmail.com
END:VEVENT
END:VCALENDAR