BEGIN:VCALENDAR
VERSION:2.0
PRODID:-//Port Angeles Community Players - ECPv6.15.20//NONSGML v1.0//EN
CALSCALE:GREGORIAN
METHOD:PUBLISH
X-ORIGINAL-URL:https://pacommunityplayers.org
X-WR-CALDESC:Events for Port Angeles Community Players
REFRESH-INTERVAL;VALUE=DURATION:PT1H
X-Robots-Tag:noindex
X-PUBLISHED-TTL:PT1H
BEGIN:VTIMEZONE
TZID:America/Los_Angeles
BEGIN:DAYLIGHT
TZOFFSETFROM:-0800
TZOFFSETTO:-0700
TZNAME:PDT
DTSTART:20250309T100000
END:DAYLIGHT
BEGIN:STANDARD
TZOFFSETFROM:-0700
TZOFFSETTO:-0800
TZNAME:PST
DTSTART:20251102T090000
END:STANDARD
BEGIN:DAYLIGHT
TZOFFSETFROM:-0800
TZOFFSETTO:-0700
TZNAME:PDT
DTSTART:20260308T100000
END:DAYLIGHT
BEGIN:STANDARD
TZOFFSETFROM:-0700
TZOFFSETTO:-0800
TZNAME:PST
DTSTART:20261101T090000
END:STANDARD
BEGIN:DAYLIGHT
TZOFFSETFROM:-0800
TZOFFSETTO:-0700
TZNAME:PDT
DTSTART:20270314T100000
END:DAYLIGHT
BEGIN:STANDARD
TZOFFSETFROM:-0700
TZOFFSETTO:-0800
TZNAME:PST
DTSTART:20271107T090000
END:STANDARD
END:VTIMEZONE
BEGIN:VEVENT
DTSTART;TZID=America/Los_Angeles:20260602T190000
DTEND;TZID=America/Los_Angeles:20260602T210000
DTSTAMP:20260423T015503
CREATED:20260416T214728Z
LAST-MODIFIED:20260418T211448Z
UID:17008-1780426800-1780434000@pacommunityplayers.org
SUMMARY:Miss Holmes
DESCRIPTION:When an anonymous note sends a newlywed wife searching for help\, Miss Sherlock Holmes and Dr. Dorothy Watson are drawn into a chilling conspiracy of brass\, blood\, and betrayal. Beneath a haze of steam and gaslight\, they investigate a corrupt police inspector whose wives have a habit of turning up dead… and whose secrets may be engineered to stay buried. \n\n\n\n\n\n\n\n\n\nInspired by the works of Arthur Conan Doyle\, this theatrical fan fiction reimagines the Victorian world through a steampunk lens\, where ingenuity is power and danger ticks like a wound spring. As Holmes and Watson navigate a society of airships\, automata\, and rigid expectations\, they must outwit both mechanical marvels and human monsters to expose the truth. \nhttps://pacp.ludus.com/index.php?sections=events \n 
URL:https://pacommunityplayers.org/event/miss-holmes-3/
LOCATION:Port Angeles Community Playhouse\, 1235 W Lauridesen Blvd\, Port Angeles\, WA\, 98362\, United States
CATEGORIES:Plays and Shows
ATTACH;FMTTYPE=image/png:https://pacommunityplayers.org/wp-content/uploads/2026/04/Miss-Holmes-Social-UPDATED.png
ORGANIZER;CN="Port Angeles Community Players":MAILTO:Pacommunityplayers@hotmail.com
END:VEVENT
BEGIN:VEVENT
DTSTART;TZID=America/Los_Angeles:20260605T190000
DTEND;TZID=America/Los_Angeles:20260605T210000
DTSTAMP:20260423T015503
CREATED:20260418T210222Z
LAST-MODIFIED:20260418T211947Z
UID:17022-1780686000-1780693200@pacommunityplayers.org
SUMMARY:Miss Holmes
DESCRIPTION:When an anonymous note sends a newlywed wife searching for help\, Miss Sherlock Holmes and Dr. Dorothy Watson are drawn into a chilling conspiracy of brass\, blood\, and betrayal. Beneath a haze of steam and gaslight\, they investigate a corrupt police inspector whose wives have a habit of turning up dead… and whose secrets may be engineered to stay buried. \n\n\n\n\n\n\n\n\n\nInspired by the works of Arthur Conan Doyle\, this theatrical fan fiction reimagines the Victorian world through a steampunk lens\, where ingenuity is power and danger ticks like a wound spring. As Holmes and Watson navigate a society of airships\, automata\, and rigid expectations\, they must outwit both mechanical marvels and human monsters to expose the truth. \nhttps://pacp.ludus.com/index.php?sections=events
URL:https://pacommunityplayers.org/event/miss-holmes-4/
LOCATION:Port Angeles Community Playhouse\, 1235 W Lauridesen Blvd\, Port Angeles\, WA\, 98362\, United States
CATEGORIES:Plays and Shows
ATTACH;FMTTYPE=image/png:https://pacommunityplayers.org/wp-content/uploads/2026/04/Miss-Holmes-Social-UPDATED.png
ORGANIZER;CN="Port Angeles Community Players":MAILTO:Pacommunityplayers@hotmail.com
END:VEVENT
BEGIN:VEVENT
DTSTART;TZID=America/Los_Angeles:20260606T140000
DTEND;TZID=America/Los_Angeles:20260606T160000
DTSTAMP:20260423T015503
CREATED:20260418T210357Z
LAST-MODIFIED:20260418T211516Z
UID:17024-1780754400-1780761600@pacommunityplayers.org
SUMMARY:Miss Holmes
DESCRIPTION:When an anonymous note sends a newlywed wife searching for help\, Miss Sherlock Holmes and Dr. Dorothy Watson are drawn into a chilling conspiracy of brass\, blood\, and betrayal. Beneath a haze of steam and gaslight\, they investigate a corrupt police inspector whose wives have a habit of turning up dead… and whose secrets may be engineered to stay buried. \n\n\n\n\n\n\n\n\n\nInspired by the works of Arthur Conan Doyle\, this theatrical fan fiction reimagines the Victorian world through a steampunk lens\, where ingenuity is power and danger ticks like a wound spring. As Holmes and Watson navigate a society of airships\, automata\, and rigid expectations\, they must outwit both mechanical marvels and human monsters to expose the truth. \nhttps://pacp.ludus.com/index.php?sections=events
URL:https://pacommunityplayers.org/event/miss-holmes-5/
LOCATION:Port Angeles Community Playhouse\, 1235 W Lauridesen Blvd\, Port Angeles\, WA\, 98362\, United States
CATEGORIES:Plays and Shows
ATTACH;FMTTYPE=image/png:https://pacommunityplayers.org/wp-content/uploads/2026/04/Miss-Holmes-Social-UPDATED.png
ORGANIZER;CN="Port Angeles Community Players":MAILTO:Pacommunityplayers@hotmail.com
END:VEVENT
BEGIN:VEVENT
DTSTART;TZID=America/Los_Angeles:20260607T140000
DTEND;TZID=America/Los_Angeles:20260607T160000
DTSTAMP:20260423T015503
CREATED:20260418T210705Z
LAST-MODIFIED:20260418T211913Z
UID:17026-1780840800-1780848000@pacommunityplayers.org
SUMMARY:Miss Holmes
DESCRIPTION:When an anonymous note sends a newlywed wife searching for help\, Miss Sherlock Holmes and Dr. Dorothy Watson are drawn into a chilling conspiracy of brass\, blood\, and betrayal. Beneath a haze of steam and gaslight\, they investigate a corrupt police inspector whose wives have a habit of turning up dead… and whose secrets may be engineered to stay buried. \n\n\n\n\n\n\n\n\n\nInspired by the works of Arthur Conan Doyle\, this theatrical fan fiction reimagines the Victorian world through a steampunk lens\, where ingenuity is power and danger ticks like a wound spring. As Holmes and Watson navigate a society of airships\, automata\, and rigid expectations\, they must outwit both mechanical marvels and human monsters to expose the truth. \nhttps://pacp.ludus.com/index.php?sections=events
URL:https://pacommunityplayers.org/event/miss-holmes-6/
LOCATION:Port Angeles Community Playhouse\, 1235 W Lauridesen Blvd\, Port Angeles\, WA\, 98362\, United States
CATEGORIES:Plays and Shows
ATTACH;FMTTYPE=image/png:https://pacommunityplayers.org/wp-content/uploads/2026/04/Miss-Holmes-Social-UPDATED.png
ORGANIZER;CN="Port Angeles Community Players":MAILTO:Pacommunityplayers@hotmail.com
END:VEVENT
BEGIN:VEVENT
DTSTART;TZID=America/Los_Angeles:20260609T190000
DTEND;TZID=America/Los_Angeles:20260609T210000
DTSTAMP:20260423T015503
CREATED:20260418T210850Z
LAST-MODIFIED:20260418T215220Z
UID:17028-1781031600-1781038800@pacommunityplayers.org
SUMMARY:Miss Holmes
DESCRIPTION:When an anonymous note sends a newlywed wife searching for help\, Miss Sherlock Holmes and Dr. Dorothy Watson are drawn into a chilling conspiracy of brass\, blood\, and betrayal. Beneath a haze of steam and gaslight\, they investigate a corrupt police inspector whose wives have a habit of turning up dead… and whose secrets may be engineered to stay buried. \n\n\n\n\n\n\n\n\n\nInspired by the works of Arthur Conan Doyle\, this theatrical fan fiction reimagines the Victorian world through a steampunk lens\, where ingenuity is power and danger ticks like a wound spring. As Holmes and Watson navigate a society of airships\, automata\, and rigid expectations\, they must outwit both mechanical marvels and human monsters to expose the truth. \nhttps://pacp.ludus.com/index.php?sections=events
URL:https://pacommunityplayers.org/event/miss-holmes-7/
LOCATION:Port Angeles Community Playhouse\, 1235 W Lauridesen Blvd\, Port Angeles\, WA\, 98362\, United States
CATEGORIES:Plays and Shows
ATTACH;FMTTYPE=image/png:https://pacommunityplayers.org/wp-content/uploads/2026/04/Miss-Holmes-Social-UPDATED.png
ORGANIZER;CN="Port Angeles Community Players":MAILTO:Pacommunityplayers@hotmail.com
END:VEVENT
BEGIN:VEVENT
DTSTART;TZID=America/Los_Angeles:20260612T190000
DTEND;TZID=America/Los_Angeles:20260612T210000
DTSTAMP:20260423T015503
CREATED:20260418T211108Z
LAST-MODIFIED:20260418T211108Z
UID:17030-1781290800-1781298000@pacommunityplayers.org
SUMMARY:Miss Holmes
DESCRIPTION:When an anonymous note sends a newlywed wife searching for help\, Miss Sherlock Holmes and Dr. Dorothy Watson are drawn into a chilling conspiracy of brass\, blood\, and betrayal. Beneath a haze of steam and gaslight\, they investigate a corrupt police inspector whose wives have a habit of turning up dead… and whose secrets may be engineered to stay buried. \n\n\n\n\n\n\n\n\n\nInspired by the works of Arthur Conan Doyle\, this theatrical fan fiction reimagines the Victorian world through a steampunk lens\, where ingenuity is power and danger ticks like a wound spring. As Holmes and Watson navigate a society of airships\, automata\, and rigid expectations\, they must outwit both mechanical marvels and human monsters to expose the truth. \nhttps://pacp.ludus.com/index.php?sections=events
URL:https://pacommunityplayers.org/event/miss-holmes-8/
LOCATION:Port Angeles Community Playhouse\, 1235 W Lauridesen Blvd\, Port Angeles\, WA\, 98362\, United States
CATEGORIES:Plays and Shows
ATTACH;FMTTYPE=image/png:https://pacommunityplayers.org/wp-content/uploads/2026/04/Miss-Holmes-Social-UPDATED.png
ORGANIZER;CN="Port Angeles Community Players":MAILTO:Pacommunityplayers@hotmail.com
END:VEVENT
BEGIN:VEVENT
DTSTART;TZID=America/Los_Angeles:20260613T140000
DTEND;TZID=America/Los_Angeles:20260613T160000
DTSTAMP:20260423T015503
CREATED:20260418T211239Z
LAST-MODIFIED:20260418T211240Z
UID:17032-1781359200-1781366400@pacommunityplayers.org
SUMMARY:Miss Holmes
DESCRIPTION:When an anonymous note sends a newlywed wife searching for help\, Miss Sherlock Holmes and Dr. Dorothy Watson are drawn into a chilling conspiracy of brass\, blood\, and betrayal. Beneath a haze of steam and gaslight\, they investigate a corrupt police inspector whose wives have a habit of turning up dead… and whose secrets may be engineered to stay buried. \n\n\n\n\n\n\n\n\n\nInspired by the works of Arthur Conan Doyle\, this theatrical fan fiction reimagines the Victorian world through a steampunk lens\, where ingenuity is power and danger ticks like a wound spring. As Holmes and Watson navigate a society of airships\, automata\, and rigid expectations\, they must outwit both mechanical marvels and human monsters to expose the truth. \nhttps://pacp.ludus.com/index.php?sections=events
URL:https://pacommunityplayers.org/event/miss-holmes-9/
LOCATION:Port Angeles Community Playhouse\, 1235 W Lauridesen Blvd\, Port Angeles\, WA\, 98362\, United States
CATEGORIES:Plays and Shows
ATTACH;FMTTYPE=image/png:https://pacommunityplayers.org/wp-content/uploads/2026/04/Miss-Holmes-Social-UPDATED.png
ORGANIZER;CN="Port Angeles Community Players":MAILTO:Pacommunityplayers@hotmail.com
END:VEVENT
BEGIN:VEVENT
DTSTART;TZID=America/Los_Angeles:20260614T140000
DTEND;TZID=America/Los_Angeles:20260614T160000
DTSTAMP:20260423T015503
CREATED:20260418T211411Z
LAST-MODIFIED:20260418T211412Z
UID:17034-1781445600-1781452800@pacommunityplayers.org
SUMMARY:Miss Holmes--Final Show
DESCRIPTION:When an anonymous note sends a newlywed wife searching for help\, Miss Sherlock Holmes and Dr. Dorothy Watson are drawn into a chilling conspiracy of brass\, blood\, and betrayal. Beneath a haze of steam and gaslight\, they investigate a corrupt police inspector whose wives have a habit of turning up dead… and whose secrets may be engineered to stay buried. \n\n\n\n\n\n\n\n\n\nInspired by the works of Arthur Conan Doyle\, this theatrical fan fiction reimagines the Victorian world through a steampunk lens\, where ingenuity is power and danger ticks like a wound spring. As Holmes and Watson navigate a society of airships\, automata\, and rigid expectations\, they must outwit both mechanical marvels and human monsters to expose the truth. \nhttps://pacp.ludus.com/index.php?sections=events
URL:https://pacommunityplayers.org/event/miss-holmes-final-show/
LOCATION:Port Angeles Community Playhouse\, 1235 W Lauridesen Blvd\, Port Angeles\, WA\, 98362\, United States
CATEGORIES:Plays and Shows
ATTACH;FMTTYPE=image/png:https://pacommunityplayers.org/wp-content/uploads/2026/04/Miss-Holmes-Social-UPDATED.png
ORGANIZER;CN="Port Angeles Community Players":MAILTO:Pacommunityplayers@hotmail.com
END:VEVENT
END:VCALENDAR