BEGIN:VCALENDAR
VERSION:2.0
PRODID:-//Port Angeles Community Players - ECPv6.15.20//NONSGML v1.0//EN
CALSCALE:GREGORIAN
METHOD:PUBLISH
X-WR-CALNAME:Port Angeles Community Players
X-ORIGINAL-URL:https://pacommunityplayers.org
X-WR-CALDESC:Events for Port Angeles Community Players
REFRESH-INTERVAL;VALUE=DURATION:PT1H
X-Robots-Tag:noindex
X-PUBLISHED-TTL:PT1H
BEGIN:VTIMEZONE
TZID:America/Los_Angeles
BEGIN:DAYLIGHT
TZOFFSETFROM:-0800
TZOFFSETTO:-0700
TZNAME:PDT
DTSTART:20250309T100000
END:DAYLIGHT
BEGIN:STANDARD
TZOFFSETFROM:-0700
TZOFFSETTO:-0800
TZNAME:PST
DTSTART:20251102T090000
END:STANDARD
BEGIN:DAYLIGHT
TZOFFSETFROM:-0800
TZOFFSETTO:-0700
TZNAME:PDT
DTSTART:20260308T100000
END:DAYLIGHT
BEGIN:STANDARD
TZOFFSETFROM:-0700
TZOFFSETTO:-0800
TZNAME:PST
DTSTART:20261101T090000
END:STANDARD
BEGIN:DAYLIGHT
TZOFFSETFROM:-0800
TZOFFSETTO:-0700
TZNAME:PDT
DTSTART:20270314T100000
END:DAYLIGHT
BEGIN:STANDARD
TZOFFSETFROM:-0700
TZOFFSETTO:-0800
TZNAME:PST
DTSTART:20271107T090000
END:STANDARD
END:VTIMEZONE
BEGIN:VEVENT
DTSTART;TZID=America/Los_Angeles:20260529T190000
DTEND;TZID=America/Los_Angeles:20260529T210000
DTSTAMP:20260421T184101
CREATED:20260413T204250Z
LAST-MODIFIED:20260418T211736Z
UID:16947-1780081200-1780088400@pacommunityplayers.org
SUMMARY:Miss Holmes: Opening Night
DESCRIPTION:In a city of gaslight and secrets… justice has a new face. \nWhen a newlywed receives an anonymous warning about her husband\, Miss Sherlock Holmes and Dr. Dorothy Watson are drawn into a case that whispers of murder\, power\, and carefully buried truths. \nA respected police inspector. A trail of dead wives. And a mystery no one else dares to question. But in a world built to overlook them\, solving the case is only the beginning. \nHolmes—brilliant\, relentless\, and far too observant for her time. Watson—driven\, capable\, and fighting for respect in a profession that barely tolerates her existence. Together\, they move through a London of steam\, shadow\, and subtle clockwork innovation\, where progress hums beneath the surface and danger wears a respectable face. \nInspired by the works of Arthur Conan Doyle\, this bold re-imagining casts a fierce feminist lens on the classic detective story—where brilliance refuses to stay silent… and justice refuses to wait its turn. \nhttps://pacp.ludus.com/index.php?sections=events \n\n\n\n\n\n\n\n\n\n 
URL:https://pacommunityplayers.org/event/opening-night-miss-holmes/
LOCATION:Port Angeles Community Playhouse\, 1235 W Lauridesen Blvd\, Port Angeles\, WA\, 98362\, United States
CATEGORIES:Plays and Shows
ATTACH;FMTTYPE=image/png:https://pacommunityplayers.org/wp-content/uploads/2026/04/Miss-Holmes-Social-UPDATED.png
ORGANIZER;CN="Port Angeles Community Players":MAILTO:Pacommunityplayers@hotmail.com
END:VEVENT
BEGIN:VEVENT
DTSTART;TZID=America/Los_Angeles:20260530T140000
DTEND;TZID=America/Los_Angeles:20260530T160000
DTSTAMP:20260421T184101
CREATED:20260416T210029Z
LAST-MODIFIED:20260418T211821Z
UID:16985-1780149600-1780156800@pacommunityplayers.org
SUMMARY:Miss Holmes
DESCRIPTION:In a city of gaslight and secrets… justice has a new face. \n\n\n\n\n\n\n\n\n\n\n\n\n\n\n\n\n\n\nWhen a newlywed receives an anonymous warning about her husband\, Miss Sherlock Holmes and Dr. Dorothy Watson are drawn into a case that whispers of murder\, power\, and carefully buried truths. \nA respected police inspector. A trail of dead wives. And a mystery no one else dares to question.But in a world built to overlook them\, solving the case is only the beginning. Holmes—brilliant\, relentless\, and far too observant for her time.\nWatson—driven\, capable\, and fighting for respect in a profession that barely tolerates her existence. Together\, they move through a London of steam\, shadow\, and subtle clockwork innovation\, where progress hums beneath the surface and danger wears a respectable face. \nInspired by the works of Arthur Conan Doyle\, this bold re-imagining casts a fierce feminist lens on the classic detective story—where brilliance refuses to stay silent… and justice refuses to wait its turn. \nhttps://pacp.ludus.com/index.php?sections=events \n\n\n\n\n\n\n\n\n\n  \n\n\n\n\n\n\n\n\n\n 
URL:https://pacommunityplayers.org/event/miss-holmes/
LOCATION:Port Angeles Community Playhouse\, 1235 W Lauridesen Blvd\, Port Angeles\, WA\, 98362\, United States
CATEGORIES:Plays and Shows
ATTACH;FMTTYPE=image/png:https://pacommunityplayers.org/wp-content/uploads/2026/04/Miss-Holmes-Social-UPDATED.png
ORGANIZER;CN="Port Angeles Community Players":MAILTO:Pacommunityplayers@hotmail.com
END:VEVENT
BEGIN:VEVENT
DTSTART;TZID=America/Los_Angeles:20260531T140000
DTEND;TZID=America/Los_Angeles:20260531T160000
DTSTAMP:20260421T184101
CREATED:20260416T210255Z
LAST-MODIFIED:20260418T212032Z
UID:16987-1780236000-1780243200@pacommunityplayers.org
SUMMARY:Miss Holmes
DESCRIPTION:When an anonymous note sends a newlywed wife searching for help\, Miss Sherlock Holmes and Dr. Dorothy Watson are drawn into a chilling conspiracy of brass\, blood\, and betrayal. Beneath a haze of steam and gaslight\, they investigate a corrupt police inspector whose wives have a habit of turning up dead… and whose secrets may be engineered to stay buried. \n\n\n\n\n\n\n\n\n\nInspired by the works of Arthur Conan Doyle\, this theatrical fan fiction reimagines the Victorian world through a steampunk lens\, where ingenuity is power and danger ticks like a wound spring. As Holmes and Watson navigate a society of airships\, automata\, and rigid expectations\, they must outwit both mechanical marvels and human monsters to expose the truth. \nhttps://pacp.ludus.com/index.php?sections=events
URL:https://pacommunityplayers.org/event/miss-holmes-2/
LOCATION:Port Angeles Community Playhouse\, 1235 W Lauridesen Blvd\, Port Angeles\, WA\, 98362\, United States
CATEGORIES:Plays and Shows
ATTACH;FMTTYPE=image/png:https://pacommunityplayers.org/wp-content/uploads/2026/04/Miss-Holmes-Social-UPDATED.png
ORGANIZER;CN="Port Angeles Community Players":MAILTO:Pacommunityplayers@hotmail.com
END:VEVENT
END:VCALENDAR